BEGIN:VCALENDAR
VERSION:2.0
PRODID:-//wp-events-plugin.com//7.2.3.1//EN
BEGIN:VEVENT
UID:778fdf76-1ca1-42af-a644-9fb0c5e43f7d
DTSTART;VALUE=DATE:20260603
DTEND;VALUE=DATE:20260604
DTSTAMP:20260413T190147Z
SUMMARY:IAPG Renewable Energy Conversion Working Group (RECWG) “Alternative Fuels” Technical Deep Dive Virtual 2026
DESCRIPTION:Current Event Info: https://iapginfo.org/events/recwg-afdd-2026/
LOCATION:
URL:https://iapginfo.org/events/recwg-afdd-2026/
END:VEVENT
END:VCALENDAR